BEGIN:VCALENDAR
VERSION:2.0
PRODID:-//Knowledge and Education Leaders
CALSCALE:GREGORIAN
METHOD:PUBLISH
X-WR-CALNAME:Knowledge and Education Leaders
X-ORIGINAL-URL:https://keleaders.com/product/oil-and-gas-financial-reporting-and-performance-excellence/
X-WR-CALDESC:Oil and Gas Financial Reporting and Performance Excellence
BEGIN:VEVENT
DTSTART;TZID=Europe/London:20260518T000000
DTEND;TZID=Europe/London:20260522T000000
SUMMARY:Oil and Gas Financial Reporting and Performance Excellence
DESCRIPTION:
URL:https://keleaders.com/product/oil-and-gas-financial-reporting-and-performance-excellence/
LOCATION:
END:VEVENT
END:VCALENDAR
