BEGIN:VCALENDAR
VERSION:2.0
PRODID:-//Knowledge and Education Leaders
CALSCALE:GREGORIAN
METHOD:PUBLISH
X-WR-CALNAME:Knowledge and Education Leaders
X-ORIGINAL-URL:https://keleaders.com/product/budgeting-and-cost-control-excellence-effective-budgeting-for-success/
X-WR-CALDESC:Budgeting and Cost Control Excellence: Effective Budgeting for Success
BEGIN:VEVENT
DTSTART;TZID=Europe/London:20260406T000000
DTEND;TZID=Europe/London:20260410T000000
SUMMARY:Budgeting and Cost Control Excellence: Effective Budgeting for Success
DESCRIPTION:
URL:https://keleaders.com/product/budgeting-and-cost-control-excellence-effective-budgeting-for-success/
LOCATION:
END:VEVENT
END:VCALENDAR
