BEGIN:VCALENDAR
VERSION:2.0
PRODID:-//Knowledge and Education Leaders
CALSCALE:GREGORIAN
METHOD:PUBLISH
X-WR-CALNAME:Knowledge and Education Leaders
X-ORIGINAL-URL:https://keleaders.com/product/the-ethics-of-ai/
X-WR-CALDESC:The Ethics of AI
BEGIN:VEVENT
DTSTART;TZID=Europe/London:20261123T000000
DTEND;TZID=Europe/London:20261127T000000
SUMMARY:The Ethics of AI
DESCRIPTION:
URL:https://keleaders.com/product/the-ethics-of-ai/
LOCATION:
END:VEVENT
END:VCALENDAR
