BEGIN:VCALENDAR
VERSION:2.0
PRODID:-//Knowledge and Education Leaders
CALSCALE:GREGORIAN
METHOD:PUBLISH
X-WR-CALNAME:Knowledge and Education Leaders
X-ORIGINAL-URL:https://keleaders.com/product/hr-business-partner-excellence/
X-WR-CALDESC:HR Business Partner Excellence
BEGIN:VEVENT
DTSTART;TZID=Europe/London:20260209T000000
DTEND;TZID=Europe/London:20260214T000000
SUMMARY:HR Business Partner Excellence
DESCRIPTION:
URL:https://keleaders.com/product/hr-business-partner-excellence/
LOCATION:
END:VEVENT
END:VCALENDAR
