BEGIN:VCALENDAR
VERSION:2.0
PRODID:-//Knowledge and Education Leaders
CALSCALE:GREGORIAN
METHOD:PUBLISH
X-WR-CALNAME:Knowledge and Education Leaders
X-ORIGINAL-URL:https://keleaders.com/product/pay-and-benefits-strategy/
X-WR-CALDESC:Pay and Benefits Strategy
BEGIN:VEVENT
DTSTART;TZID=Europe/London:20260831T000000
DTEND;TZID=Europe/London:20260905T000000
SUMMARY:Pay and Benefits Strategy
DESCRIPTION:
URL:https://keleaders.com/product/pay-and-benefits-strategy/
LOCATION:
END:VEVENT
END:VCALENDAR
