BEGIN:VCALENDAR
VERSION:2.0
PRODID:-//Knowledge and Education Leaders
CALSCALE:GREGORIAN
METHOD:PUBLISH
X-WR-CALNAME:Knowledge and Education Leaders
X-ORIGINAL-URL:https://keleaders.com/product/the-art-of-appraisals/
X-WR-CALDESC:The Art of Appraisals
BEGIN:VEVENT
DTSTART;TZID=Europe/London:20260202T000000
DTEND;TZID=Europe/London:20260206T000000
SUMMARY:The Art of Appraisals
DESCRIPTION:
URL:https://keleaders.com/product/the-art-of-appraisals/
LOCATION:
END:VEVENT
END:VCALENDAR
