BEGIN:VCALENDAR
VERSION:2.0
PRODID:-//Knowledge and Education Leaders
CALSCALE:GREGORIAN
METHOD:PUBLISH
X-WR-CALNAME:Knowledge and Education Leaders
X-ORIGINAL-URL:https://keleaders.com/product/strategic-career-and-succession-planning-excellence/
X-WR-CALDESC:Strategic Career and Succession Planning Excellence
BEGIN:VEVENT
DTSTART;TZID=Europe/London:20260824T000000
DTEND;TZID=Europe/London:20260828T000000
SUMMARY:Strategic Career and Succession Planning Excellence
DESCRIPTION:
URL:https://keleaders.com/product/strategic-career-and-succession-planning-excellence/
LOCATION:
END:VEVENT
END:VCALENDAR
