BEGIN:VCALENDAR
VERSION:2.0
PRODID:-//Knowledge and Education Leaders
CALSCALE:GREGORIAN
METHOD:PUBLISH
X-WR-CALNAME:Knowledge and Education Leaders
X-ORIGINAL-URL:https://keleaders.com/product/professional-certificate-in-training-and-development-pctd/
X-WR-CALDESC:Professional Certificate in Training and Development (PCTD)
BEGIN:VEVENT
DTSTART;TZID=Europe/London:20261005T000000
DTEND;TZID=Europe/London:20261009T000000
SUMMARY:Professional Certificate in Training and Development (PCTD)
DESCRIPTION:
URL:https://keleaders.com/product/professional-certificate-in-training-and-development-pctd/
LOCATION:
END:VEVENT
END:VCALENDAR
