BEGIN:VCALENDAR
VERSION:2.0
PRODID:-//Knowledge and Education Leaders
CALSCALE:GREGORIAN
METHOD:PUBLISH
X-WR-CALNAME:Knowledge and Education Leaders
X-ORIGINAL-URL:https://keleaders.com/product/mastering-workforce-planning-and-organizational-effectiveness/
X-WR-CALDESC:Mastering Workforce Planning and Organizational Effectiveness
BEGIN:VEVENT
DTSTART;TZID=Europe/London:20260907T000000
DTEND;TZID=Europe/London:20260911T000000
SUMMARY:Mastering Workforce Planning and Organizational Effectiveness
DESCRIPTION:
URL:https://keleaders.com/product/mastering-workforce-planning-and-organizational-effectiveness/
LOCATION:
END:VEVENT
END:VCALENDAR
