BEGIN:VCALENDAR
VERSION:2.0
PRODID:-//Knowledge and Education Leaders
CALSCALE:GREGORIAN
METHOD:PUBLISH
X-WR-CALNAME:Knowledge and Education Leaders
X-ORIGINAL-URL:https://keleaders.com/product/strategic-hr-business-partnering-and-transformation/
X-WR-CALDESC:Strategic HR Business Partnering and Transformation
BEGIN:VEVENT
DTSTART;TZID=Europe/London:20261123T000000
DTEND;TZID=Europe/London:20261127T000000
SUMMARY:Strategic HR Business Partnering and Transformation
DESCRIPTION:
URL:https://keleaders.com/product/strategic-hr-business-partnering-and-transformation/
LOCATION:
END:VEVENT
END:VCALENDAR
