BEGIN:VCALENDAR
VERSION:2.0
PRODID:-//Knowledge and Education Leaders
CALSCALE:GREGORIAN
METHOD:PUBLISH
X-WR-CALNAME:Knowledge and Education Leaders
X-ORIGINAL-URL:https://keleaders.com/product/organisational-learning-and-workforce-development-for-oil-gas/
X-WR-CALDESC:Organisational Learning and Workforce Development for Oil &#038; Gas
BEGIN:VEVENT
DTSTART;TZID=Europe/London:20260914T000000
DTEND;TZID=Europe/London:20260918T000000
SUMMARY:Organisational Learning and Workforce Development for Oil & Gas
DESCRIPTION:
URL:https://keleaders.com/product/organisational-learning-and-workforce-development-for-oil-gas/
LOCATION:
END:VEVENT
END:VCALENDAR
