BEGIN:VCALENDAR
VERSION:2.0
PRODID:-//Knowledge and Education Leaders
CALSCALE:GREGORIAN
METHOD:PUBLISH
X-WR-CALNAME:Knowledge and Education Leaders
X-ORIGINAL-URL:https://keleaders.com/product/maintenance-contracting-and-outsourcing-training-course/
X-WR-CALDESC:Maintenance Contracting and Outsourcing Training Course
BEGIN:VEVENT
DTSTART;TZID=Europe/London:20260202T000000
DTEND;TZID=Europe/London:20260206T000000
SUMMARY:Maintenance Contracting and Outsourcing Training Course
DESCRIPTION:
URL:https://keleaders.com/product/maintenance-contracting-and-outsourcing-training-course/
LOCATION:
END:VEVENT
END:VCALENDAR
