BEGIN:VCALENDAR
VERSION:2.0
PRODID:-//Knowledge and Education Leaders
CALSCALE:GREGORIAN
METHOD:PUBLISH
X-WR-CALNAME:Knowledge and Education Leaders
X-ORIGINAL-URL:https://keleaders.com/product/procurement-excellence/
X-WR-CALDESC:Procurement Excellence
BEGIN:VEVENT
DTSTART;TZID=Europe/London:20260727T000000
DTEND;TZID=Europe/London:20260731T000000
SUMMARY:Procurement Excellence
DESCRIPTION:
URL:https://keleaders.com/product/procurement-excellence/
LOCATION:
END:VEVENT
END:VCALENDAR
