BEGIN:VCALENDAR
VERSION:2.0
PRODID:-//Knowledge and Education Leaders
CALSCALE:GREGORIAN
METHOD:PUBLISH
X-WR-CALNAME:Knowledge and Education Leaders
X-ORIGINAL-URL:https://keleaders.com/product/the-complete-guide-to-contract-writing-and-negotiation/
X-WR-CALDESC:The Complete Guide to Contract Writing and Negotiation
BEGIN:VEVENT
DTSTART;TZID=Europe/London:20260601T000000
DTEND;TZID=Europe/London:20260605T000000
SUMMARY:The Complete Guide to Contract Writing and Negotiation
DESCRIPTION:
URL:https://keleaders.com/product/the-complete-guide-to-contract-writing-and-negotiation/
LOCATION:
END:VEVENT
END:VCALENDAR
