BEGIN:VCALENDAR
VERSION:2.0
PRODID:-//Knowledge and Education Leaders
CALSCALE:GREGORIAN
METHOD:PUBLISH
X-WR-CALNAME:Knowledge and Education Leaders
X-ORIGINAL-URL:https://keleaders.com/product/project-planning-and-scheduling/
X-WR-CALDESC:Project Planning and Scheduling
BEGIN:VEVENT
DTSTART;TZID=Europe/London:20260316T000000
DTEND;TZID=Europe/London:20260320T000000
SUMMARY:Project Planning and Scheduling
DESCRIPTION:
URL:https://keleaders.com/product/project-planning-and-scheduling/
LOCATION:
END:VEVENT
END:VCALENDAR
