BEGIN:VCALENDAR
VERSION:2.0
PRODID:-//Knowledge and Education Leaders
CALSCALE:GREGORIAN
METHOD:PUBLISH
X-WR-CALNAME:Knowledge and Education Leaders
X-ORIGINAL-URL:https://keleaders.com/product/project-management-bootcamp/
X-WR-CALDESC:Project Management Bootcamp
BEGIN:VEVENT
DTSTART;TZID=Europe/London:20260209T000000
DTEND;TZID=Europe/London:20260213T000000
SUMMARY:Project Management Bootcamp
DESCRIPTION:
URL:https://keleaders.com/product/project-management-bootcamp/
LOCATION:
END:VEVENT
END:VCALENDAR
