BEGIN:VCALENDAR
VERSION:2.0
PRODID:-//Knowledge and Education Leaders
CALSCALE:GREGORIAN
METHOD:PUBLISH
X-WR-CALNAME:Knowledge and Education Leaders
X-ORIGINAL-URL:https://keleaders.com/product/building-confidence-and-influence-at-managerial-level/
X-WR-CALDESC:Building Confidence and Influence at Managerial Level
BEGIN:VEVENT
DTSTART;TZID=Europe/London:20261214T000000
DTEND;TZID=Europe/London:20261218T000000
SUMMARY:Building Confidence and Influence at Managerial Level
DESCRIPTION:
URL:https://keleaders.com/product/building-confidence-and-influence-at-managerial-level/
LOCATION:
END:VEVENT
END:VCALENDAR
