BEGIN:VCALENDAR
VERSION:2.0
PRODID:-//Knowledge and Education Leaders
CALSCALE:GREGORIAN
METHOD:PUBLISH
X-WR-CALNAME:Knowledge and Education Leaders
X-ORIGINAL-URL:https://keleaders.com/product/the-art-of-effective-interpersonal-communication/
X-WR-CALDESC:The Art of Effective Interpersonal Communication
BEGIN:VEVENT
DTSTART;TZID=Europe/London:20261207T000000
DTEND;TZID=Europe/London:20261211T000000
SUMMARY:The Art of Effective Interpersonal Communication
DESCRIPTION:
URL:https://keleaders.com/product/the-art-of-effective-interpersonal-communication/
LOCATION:
END:VEVENT
END:VCALENDAR
