BEGIN:VCALENDAR
VERSION:2.0
PRODID:-//Knowledge and Education Leaders
CALSCALE:GREGORIAN
METHOD:PUBLISH
X-WR-CALNAME:Knowledge and Education Leaders
X-ORIGINAL-URL:https://keleaders.com/product/enterprise-risk-and-resilience/
X-WR-CALDESC:Enterprise Risk and Resilience
BEGIN:VEVENT
DTSTART;TZID=Europe/London:20260420T000000
DTEND;TZID=Europe/London:20260424T000000
SUMMARY:Enterprise Risk and Resilience
DESCRIPTION:
URL:https://keleaders.com/product/enterprise-risk-and-resilience/
LOCATION:
END:VEVENT
END:VCALENDAR
