BEGIN:VCALENDAR
VERSION:2.0
PRODID:-//Knowledge and Education Leaders
CALSCALE:GREGORIAN
METHOD:PUBLISH
X-WR-CALNAME:Knowledge and Education Leaders
X-ORIGINAL-URL:https://keleaders.com/product/best-practices-in-pas99-and-integrated-management-systems/
X-WR-CALDESC:Best Practices in PAS99 and Integrated Management Systems
BEGIN:VEVENT
DTSTART;TZID=Europe/London:20260914T000000
DTEND;TZID=Europe/London:20260918T000000
SUMMARY:Best Practices in PAS99 and Integrated Management Systems
DESCRIPTION:Overview This highly interactive programme is designed to equip leaders and professionals with the knowledge and tools to effectively implement and operate a structured **Integrated Management System (IMS)** across key business areas, such as **Quality Management, Environmental Management, and Occupational Safety &amp; Health**. At the heart of this programme is **PAS99 – Specification of Common Management Systems Requirements** – a framework that simplifies the integration of multiple management systems. Fully aligned with the latest ISO requirements, this model prepares organisations for future changes and ensures operational excellence. By attending, participants will gain a practical and strategic understanding of how to develop, integrate, and operate management systems to achieve **efficiency, compliance, and sustainable improvement**.
URL:https://keleaders.com/product/best-practices-in-pas99-and-integrated-management-systems/
LOCATION:
END:VEVENT
END:VCALENDAR
