BEGIN:VCALENDAR
VERSION:2.0
PRODID:-//Knowledge and Education Leaders
CALSCALE:GREGORIAN
METHOD:PUBLISH
X-WR-CALNAME:Knowledge and Education Leaders
X-ORIGINAL-URL:https://keleaders.com/product/driving-project-success-through-business-analysis/
X-WR-CALDESC:Driving Project Success through Business Analysis
BEGIN:VEVENT
DTSTART;TZID=Europe/London:20260817T000000
DTEND;TZID=Europe/London:20260821T000000
SUMMARY:Driving Project Success through Business Analysis
DESCRIPTION:
URL:https://keleaders.com/product/driving-project-success-through-business-analysis/
LOCATION:
END:VEVENT
END:VCALENDAR
