BEGIN:VCALENDAR
VERSION:2.0
PRODID:-//Knowledge and Education Leaders
CALSCALE:GREGORIAN
METHOD:PUBLISH
X-WR-CALNAME:Knowledge and Education Leaders
X-ORIGINAL-URL:https://keleaders.com/product/global-leadership-and-strategic-vision-in-the-oil-and-gas-industry5555/
X-WR-CALDESC:Global Leadership and Strategic Vision in the Oil and Gas Industry
BEGIN:VEVENT
DTSTART;TZID=Europe/London:20260622T000000
DTEND;TZID=Europe/London:20260626T000000
SUMMARY:Global Leadership and Strategic Vision in the Oil and Gas Industry
DESCRIPTION:
URL:https://keleaders.com/product/global-leadership-and-strategic-vision-in-the-oil-and-gas-industry5555/
LOCATION:
END:VEVENT
END:VCALENDAR
