BEGIN:VCALENDAR
VERSION:2.0
PRODID:-//Knowledge and Education Leaders
CALSCALE:GREGORIAN
METHOD:PUBLISH
X-WR-CALNAME:Knowledge and Education Leaders
X-ORIGINAL-URL:https://keleaders.com/product/strategic-negotiation-mastery-for-leaders-and-managers5370/
X-WR-CALDESC:Strategic Negotiation Mastery for Leaders and Managers
BEGIN:VEVENT
DTSTART;TZID=Europe/London:20261012T000000
DTEND;TZID=Europe/London:20261016T000000
SUMMARY:Strategic Negotiation Mastery for Leaders and Managers
DESCRIPTION:
URL:https://keleaders.com/product/strategic-negotiation-mastery-for-leaders-and-managers5370/
LOCATION:
END:VEVENT
END:VCALENDAR
