BEGIN:VCALENDAR
VERSION:2.0
PRODID:-//Knowledge and Education Leaders
CALSCALE:GREGORIAN
METHOD:PUBLISH
X-WR-CALNAME:Knowledge and Education Leaders
X-ORIGINAL-URL:https://keleaders.com/product/smart-planning-and-effective-delegation-strategies-for-leaders5367/
X-WR-CALDESC:Smart Planning and Effective Delegation Strategies for Leaders
BEGIN:VEVENT
DTSTART;TZID=Europe/London:20260921T000000
DTEND;TZID=Europe/London:20260925T000000
SUMMARY:Smart Planning and Effective Delegation Strategies for Leaders
DESCRIPTION:
URL:https://keleaders.com/product/smart-planning-and-effective-delegation-strategies-for-leaders5367/
LOCATION:
END:VEVENT
END:VCALENDAR
