BEGIN:VCALENDAR
VERSION:2.0
PRODID:-//Knowledge and Education Leaders
CALSCALE:GREGORIAN
METHOD:PUBLISH
X-WR-CALNAME:Knowledge and Education Leaders
X-ORIGINAL-URL:https://keleaders.com/product/quality-management-essentials-for-business-excellence/
X-WR-CALDESC:Quality Management Essentials for Business Excellence
BEGIN:VEVENT
DTSTART;TZID=Europe/London:20260302T000000
DTEND;TZID=Europe/London:20260306T000000
SUMMARY:Quality Management Essentials for Business Excellence
DESCRIPTION:
URL:https://keleaders.com/product/quality-management-essentials-for-business-excellence/
LOCATION:
END:VEVENT
END:VCALENDAR
