BEGIN:VCALENDAR
VERSION:2.0
PRODID:-//Knowledge and Education Leaders
CALSCALE:GREGORIAN
METHOD:PUBLISH
X-WR-CALNAME:Knowledge and Education Leaders
X-ORIGINAL-URL:https://keleaders.com/product/core-principles-of-business-strategy/
X-WR-CALDESC:Core Principles of Business Strategy
BEGIN:VEVENT
DTSTART;TZID=Europe/London:20260119T000000
DTEND;TZID=Europe/London:20260123T000000
SUMMARY:Core Principles of Business Strategy
DESCRIPTION:
URL:https://keleaders.com/product/core-principles-of-business-strategy/
LOCATION:
END:VEVENT
END:VCALENDAR
