BEGIN:VCALENDAR
VERSION:2.0
PRODID:-//Knowledge and Education Leaders
CALSCALE:GREGORIAN
METHOD:PUBLISH
X-WR-CALNAME:Knowledge and Education Leaders
X-ORIGINAL-URL:https://keleaders.com/product/data-driven-decision-making-in-oil-gas-transformation5055/
X-WR-CALDESC:Data-Driven Decision-Making in Oil &#038; Gas Transformation
BEGIN:VEVENT
DTSTART;TZID=Europe/London:20261026T000000
DTEND;TZID=Europe/London:20261030T000000
SUMMARY:Data-Driven Decision-Making in Oil & Gas Transformation
DESCRIPTION:
URL:https://keleaders.com/product/data-driven-decision-making-in-oil-gas-transformation5055/
LOCATION:
END:VEVENT
END:VCALENDAR
