BEGIN:VCALENDAR
VERSION:2.0
PRODID:-//Knowledge and Education Leaders
CALSCALE:GREGORIAN
METHOD:PUBLISH
X-WR-CALNAME:Knowledge and Education Leaders
X-ORIGINAL-URL:https://keleaders.com/product/high-impact-negotiation-for-petroleum-contracts5036/
X-WR-CALDESC:High-Impact Negotiation for Petroleum Contracts
BEGIN:VEVENT
DTSTART;TZID=Europe/London:20260622T000000
DTEND;TZID=Europe/London:20260626T000000
SUMMARY:High-Impact Negotiation for Petroleum Contracts
DESCRIPTION:
URL:https://keleaders.com/product/high-impact-negotiation-for-petroleum-contracts5036/
LOCATION:
END:VEVENT
END:VCALENDAR
