BEGIN:VCALENDAR
VERSION:2.0
PRODID:-//Knowledge and Education Leaders
CALSCALE:GREGORIAN
METHOD:PUBLISH
X-WR-CALNAME:Knowledge and Education Leaders
X-ORIGINAL-URL:https://keleaders.com/product/oil-and-gas-tank-farm-operations-excellence-program5026/
X-WR-CALDESC:Oil and Gas Tank Farm Operations Excellence Program
BEGIN:VEVENT
DTSTART;TZID=Europe/London:20260518T000000
DTEND;TZID=Europe/London:20260522T000000
SUMMARY:Oil and Gas Tank Farm Operations Excellence Program
DESCRIPTION:
URL:https://keleaders.com/product/oil-and-gas-tank-farm-operations-excellence-program5026/
LOCATION:
END:VEVENT
END:VCALENDAR
