BEGIN:VCALENDAR
VERSION:2.0
PRODID:-//Knowledge and Education Leaders
CALSCALE:GREGORIAN
METHOD:PUBLISH
X-WR-CALNAME:Knowledge and Education Leaders
X-ORIGINAL-URL:https://keleaders.com/product/strategic-production-planning-and-scheduling-for-petroleum-refining5001/
X-WR-CALDESC:Strategic Production Planning and Scheduling for Petroleum Refining
BEGIN:VEVENT
DTSTART;TZID=Europe/London:20260420T000000
DTEND;TZID=Europe/London:20260424T000000
SUMMARY:Strategic Production Planning and Scheduling for Petroleum Refining
DESCRIPTION:Strategic Production Planning and Scheduling for Petroleum Refining Course Overview Efficient planning, scheduling, and yield optimization are critical to maximizing refinery profitability, ensuring smooth operations, and meeting market demands in a competitive energy sector. This five-day intensive course provides participants with a comprehensive understanding of modern tools, strategies, and best practices for strategic production planning, crude selection, scheduling, and yield optimization in petroleum refining. Through real-world examples, refinery case studies, and practical exercises, participants will learn how to optimize refinery configurations, manage product movements, and ensure compliance with evolving environmental and product specifications. The course also introduces advanced techniques such as linear programming, capacity utilization strategies, and blending optimization to help refineries achieve operational excellence. Course Objectives By the end of this course, participants will be able to: * Gain in-depth knowledge of modern refinery planning and scheduling tools. * Optimize crude selection, capacity utilization, and operational severity for better yields. * Improve refinery efficiency, profitability, and adaptability in changing market conditions. * Understand the interrelationship between different refinery processes and product outputs. * Apply mathematical models and optimization techniques for scheduling and blending. * Manage environmental compliance while meeting evolving fuel quality requirements. * Execute effective refinery-wide product movement and inventory strategies.
URL:https://keleaders.com/product/strategic-production-planning-and-scheduling-for-petroleum-refining5001/
LOCATION:
END:VEVENT
END:VCALENDAR
