BEGIN:VCALENDAR
VERSION:2.0
PRODID:-//Knowledge and Education Leaders
CALSCALE:GREGORIAN
METHOD:PUBLISH
X-WR-CALNAME:Knowledge and Education Leaders
X-ORIGINAL-URL:https://keleaders.com/product/upstream-midstream-downstream-contract-strategies/
X-WR-CALDESC:Upstream, Midstream &#038; Downstream Contract Strategies
BEGIN:VEVENT
DTSTART;TZID=Europe/London:20260330T000000
DTEND;TZID=Europe/London:20260403T000000
SUMMARY:Upstream, Midstream & Downstream Contract Strategies
DESCRIPTION:Upstream, Midstream &amp; Downstream Contract Strategies Course Overview This intensive five-day program is designed for oil and gas professionals seeking to master contract strategies across the upstream, midstream, and downstream sectors. The course blends petroleum law fundamentals, commercial best practices, advanced risk management, and dispute resolution techniques to ensure participants can structure, negotiate, and manage contracts that meet global standards and protect organisational interests. Participants will work through real-life case studies, practical exercises, and interactive discussions that reflect the latest industry trends and legal developments, enabling them to respond effectively to challenges in today’s complex energy market. Course Objectives By the end of this training, participants will be able to: * Understand and leverage the strategic role of oil and gas contracts within the petroleum legal framework. * Apply upstream, midstream, and downstream contract management best practices. * Implement efficient supply chain strategies that improve compliance and transparency. * Identify, evaluate, and mitigate contractual risks effectively. * Choose and apply the most appropriate dispute resolution methods for the industry. * Strengthen negotiation skills to secure favourable outcomes while sustaining business relationships.
URL:https://keleaders.com/product/upstream-midstream-downstream-contract-strategies/
LOCATION:
END:VEVENT
END:VCALENDAR
