BEGIN:VCALENDAR
VERSION:2.0
PRODID:-//Knowledge and Education Leaders
CALSCALE:GREGORIAN
METHOD:PUBLISH
X-WR-CALNAME:Knowledge and Education Leaders
X-ORIGINAL-URL:https://keleaders.com/product/global-standards-in-oil-and-gas-marine-terminal-operations-and-safety4995/
X-WR-CALDESC:Global Standards in Oil and Gas Marine Terminal Operations and Safety
BEGIN:VEVENT
DTSTART;TZID=Europe/London:20260223T000000
DTEND;TZID=Europe/London:20260227T000000
SUMMARY:Global Standards in Oil and Gas Marine Terminal Operations and Safety
DESCRIPTION:Global Standards in Oil and Gas Marine Terminal Operations and Safety Overview This immersive five-day KELeaders programme equips participants with the knowledge, skills, and confidence to manage, operate, and ensure safety in oil &amp; gas marine terminals in line with **international standards and best practices**. From cargo properties to ship/shore operations, risk assessment, and terminal management, this course blends theory with practical applications, enabling professionals to excel in a safety-critical, regulation-driven environment. Key Learning Objectives By the end of this programme, participants will be able to: Master the operational and management principles of oil &amp; gas marine terminals. Interpret and apply international regulations and industry requirements. Plan and execute storage and transfer operations effectively. Oversee vessel operations including crude/product tankers and LNG/LPG carriers. Lead terminal support operations — berthing, cargo transfer, emergency response, and vessel departure. Implement safe operating practices and oil spill contingency procedures. Conduct qualitative and quantitative risk assessments for terminal operations.
URL:https://keleaders.com/product/global-standards-in-oil-and-gas-marine-terminal-operations-and-safety4995/
LOCATION:
END:VEVENT
END:VCALENDAR
