BEGIN:VCALENDAR
VERSION:2.0
PRODID:-//Knowledge and Education Leaders
CALSCALE:GREGORIAN
METHOD:PUBLISH
X-WR-CALNAME:Knowledge and Education Leaders
X-ORIGINAL-URL:https://keleaders.com/product/oil-and-gas-financial-reporting-and-kpi-mastery4990/
X-WR-CALDESC:Oil and Gas Financial Reporting and KPI Mastery
BEGIN:VEVENT
DTSTART;TZID=Europe/London:20261019T000000
DTEND;TZID=Europe/London:20261023T000000
SUMMARY:Oil and Gas Financial Reporting and KPI Mastery
DESCRIPTION:Oil and Gas Financial Reporting and KPI Mastery Introduction This intensive five-day KELeaders training programme delivers essential knowledge and skills in financial reporting, accounting practices, and key performance measurement in the Oil &amp; Gas Exploration &amp; Production (E\&amp;P) sector. Participants will develop the ability to prepare, analyse, and interpret financial statements in line with IFRS and industry best practices, while mastering KPIs for performance benchmarking. Key Learning Outcomes By the end of this course, participants will be able to: * Apply relevant accounting standards and policies in the E\&amp;P sector * Interpret and prepare financial reports that meet international and national requirements * Understand the financial impact of Production Sharing Contracts (PSCs) and Joint Venture agreements * Implement best practices for asset classification, depreciation, and impairment testing * Analyse and benchmark company performance using KPIs and market data * Identify governance, ethics, and audit requirements affecting oil and gas financial reporting
URL:https://keleaders.com/product/oil-and-gas-financial-reporting-and-kpi-mastery4990/
LOCATION:
END:VEVENT
END:VCALENDAR
