BEGIN:VCALENDAR
VERSION:2.0
PRODID:-//Knowledge and Education Leaders
CALSCALE:GREGORIAN
METHOD:PUBLISH
X-WR-CALNAME:Knowledge and Education Leaders
X-ORIGINAL-URL:https://keleaders.com/product/risk-management-strategies-for-oil-gas-projects4988/
X-WR-CALDESC:Risk Management Strategies for Oil &#038; Gas Projects
BEGIN:VEVENT
DTSTART;TZID=Europe/London:20260406T000000
DTEND;TZID=Europe/London:20260410T000000
SUMMARY:Risk Management Strategies for Oil & Gas Projects
DESCRIPTION:Risk Management Strategies for Oil &amp; Gas Projects INTRODUCTION In the oil and gas industry, project success depends on effectively identifying, assessing, and managing risks across every stage of the project lifecycle. From exploration to decommissioning, operational and commercial uncertainties can impact safety, cost, schedule, and performance. The *Risk Management Strategies for Oil &amp; Gas Projects* programme equips participants with the essential skills to design and implement a robust risk management framework. The course blends technical, commercial, and behavioural aspects of risk, covering proven methodologies, industry best practices, and case studies from high-profile oil and gas projects. Participants will gain hands-on experience in risk identification, qualitative and quantitative analysis, response planning, monitoring, and reporting, while also exploring the “human side” of risk – perception, decision-making, and organisational culture. This training course will highlight: * The unique nature of project risk in the oil and gas sector * Best-practice risk identification, assessment, and mitigation techniques * Stage-gated project processes and their impact on risk dynamics * Industry-specific tools such as HAZID, HAZOP, MAR, LOPA, and Bow-Tie analysis * Quantitative methods including sensitivity analysis and Monte Carlo simulation * Lessons learned from global oil and gas megaprojects OBJECTIVES By the end of this course, participants will be able to: * Develop a risk management process tailored to oil and gas projects * Understand key roles, responsibilities, and activities in risk management * Apply appropriate tools and techniques to optimise project risk control * Manage risks effectively through stage-gated project frameworks * Assess and address the human factors influencing risk perception * Apply lessons learned from industry experience to improve future projects TRAINING METHODOLOGY The programme uses a **blended learning approach** that combines: * Instructor-led presentations using real industry case studies * Practical exercises in qualitative and quantitative risk analysis * Group discussions and scenario-based problem solving * Risk simulation tools and modelling demonstrations * Interactive Q\&amp;A sessions to address participant challenges
URL:https://keleaders.com/product/risk-management-strategies-for-oil-gas-projects4988/
LOCATION:
END:VEVENT
END:VCALENDAR
