BEGIN:VCALENDAR
VERSION:2.0
PRODID:-//Knowledge and Education Leaders
CALSCALE:GREGORIAN
METHOD:PUBLISH
X-WR-CALNAME:Knowledge and Education Leaders
X-ORIGINAL-URL:https://keleaders.com/product/gas-sector-leadership-and-commercial-strategy4985/
X-WR-CALDESC:Gas Sector Leadership and Commercial Strategy
BEGIN:VEVENT
DTSTART;TZID=Europe/London:20260316T000000
DTEND;TZID=Europe/London:20260320T000000
SUMMARY:Gas Sector Leadership and Commercial Strategy
DESCRIPTION:Gas Sector Leadership and Commercial Strategy INTRODUCTION The global gas sector is undergoing a period of profound transformation. Market liberalisation, decarbonisation policies, shifting demand patterns, and geopolitical dynamics are reshaping the way gas is explored, produced, processed, and traded. For industry leaders, success in this evolving environment requires more than operational expertise — it demands **strategic vision, commercial insight, and adaptive leadership**. This programme is designed to equip senior professionals and emerging leaders in the gas sector with the knowledge and skills to **navigate complex market conditions, lead high-value projects, and develop commercially viable strategies** that align with future energy trends. Participants will gain a **holistic understanding of the gas value chain** alongside in-depth insights into global market forces, LNG and GTL economics, regulatory frameworks, and commercial negotiation strategies. This training course will highlight: * Strategic leadership skills for managing gas sector operations and teams * The commercial and economic drivers of the natural gas value chain * Market trends and demand-supply dynamics shaping the industry * LNG and GTL project economics and risk assessment * Policy, regulation, and stakeholder engagement for sustainable growth * Tools for evaluating and executing profitable gas sector investments OBJECTIVES By the end of this course, participants will be able to: * Lead effectively within the operational and commercial contexts of the gas sector * Develop and execute commercial strategies for LNG, GTL, and pipeline gas markets * Analyse market forces and align business decisions with future demand trends * Apply economic evaluation methods for gas sector investments * Navigate regulatory environments and manage stakeholder relationships * Identify growth opportunities and mitigate risks in a competitive market TRAINING METHODOLOGY * **Interactive lectures** combining technical, commercial, and leadership perspectives * **Case studies** on successful and failed gas sector strategies * **Group discussions** to share experiences and insights from multiple markets * **Role-play exercises** on commercial negotiations and stakeholder engagement * **Practical assignments** applying strategic frameworks to real-world gas projects
URL:https://keleaders.com/product/gas-sector-leadership-and-commercial-strategy4985/
LOCATION:
END:VEVENT
END:VCALENDAR
