BEGIN:VCALENDAR
VERSION:2.0
PRODID:-//Knowledge and Education Leaders
CALSCALE:GREGORIAN
METHOD:PUBLISH
X-WR-CALNAME:Knowledge and Education Leaders
X-ORIGINAL-URL:https://keleaders.com/product/49corrosion-control-through-cathodic-protection-in-oil-gas-operations75/
X-WR-CALDESC:Corrosion Control Through Cathodic Protection in Oil &#038; Gas Operations
BEGIN:VEVENT
DTSTART;TZID=Europe/London:20260209T000000
DTEND;TZID=Europe/London:20260213T000000
SUMMARY:Corrosion Control Through Cathodic Protection in Oil & Gas Operations
DESCRIPTION:
URL:https://keleaders.com/product/49corrosion-control-through-cathodic-protection-in-oil-gas-operations75/
LOCATION:
END:VEVENT
END:VCALENDAR
