BEGIN:VCALENDAR
VERSION:2.0
PRODID:-//Knowledge and Education Leaders
CALSCALE:GREGORIAN
METHOD:PUBLISH
X-WR-CALNAME:Knowledge and Education Leaders
X-ORIGINAL-URL:https://keleaders.com/product/mastering-business-growth-longevity/
X-WR-CALDESC:Mastering Business Growth &#038; Longevity
BEGIN:VEVENT
DTSTART;TZID=Europe/London:20260427T000000
DTEND;TZID=Europe/London:20260427T000000
SUMMARY:Mastering Business Growth & Longevity
DESCRIPTION:Mastering Business Growth &amp; Longevity COURSE DESCRIPTION INTRODUCTION In a rapidly evolving business landscape, long-term success is not achieved by chance—it is the result of a deliberate strategy, effective leadership, and robust performance systems. Mastering Business Growth &amp; Longevity is a comprehensive, hands-on training course designed to equip professionals with the tools, insights, and capabilities to drive sustainable growth, navigate disruption, and build resilient organizations. This immersive 5-day program blends strategic thinking, business planning, leadership development, and performance management to empower delegates to lead their organizations from solid performance to exceptional, enduring success. OBJECTIVES By the end of this training course, participants will be able to: Apply strategic thinking to business planning and transformation Design and manage performance systems using KPIs and scorecards Build and lead high-performing, adaptable teams Use forecasting and cost control techniques for effective decision-making Identify key business risks and avoid the common causes of failure Understand and mitigate threats from disruption and innovation TRAINING METHODOLOGY This course is structured as a highly interactive workshop. It incorporates formal presentations, real-life case studies, team activities, and practical exercises that help participants apply new knowledge directly to their work environment. Tools, templates, and best practices will be shared throughout.
URL:https://keleaders.com/product/mastering-business-growth-longevity/
LOCATION:
END:VEVENT
END:VCALENDAR
