BEGIN:VCALENDAR
VERSION:2.0
PRODID:-//Knowledge and Education Leaders
CALSCALE:GREGORIAN
METHOD:PUBLISH
X-WR-CALNAME:Knowledge and Education Leaders
X-ORIGINAL-URL:https://keleaders.com/product/strategic-thinking-and-decision-making-for-public-sector-leaders/
X-WR-CALDESC:Strategic Thinking and Decision-Making for Public Sector Leaders
BEGIN:VEVENT
DTSTART;TZID=Europe/London:20260413T000000
DTEND;TZID=Europe/London:20260417T000000
SUMMARY:Strategic Thinking and Decision-Making for Public Sector Leaders
DESCRIPTION:Strategic Thinking and Decision-Making for Public Sector Leaders Training Overview This five-day Strategic Thinking and Decision-Making for Public Sector Leaders programme is crafted to help public service professionals enhance their analytical skills, make informed decisions, and foster innovative problem-solving in complex environments. Participants will gain tools to apply critical reasoning, challenge assumptions, and collaborate effectively—enabling them to lead teams and projects with strategic clarity and impact. Learning Outcomes By the end of this training, participants will be able to: Understand and apply critical, strategic thinking in public service Evaluate and structure analytical reasoning in decision-making Analyze information from diverse sources to resolve complex issues Develop and assess innovative ideas using robust logic Engage in reflective thinking to justify and support decisions Use strategic problem-solving models in team settings
URL:https://keleaders.com/product/strategic-thinking-and-decision-making-for-public-sector-leaders/
LOCATION:
END:VEVENT
END:VCALENDAR
