BEGIN:VCALENDAR
VERSION:2.0
PRODID:-//Knowledge and Education Leaders
CALSCALE:GREGORIAN
METHOD:PUBLISH
X-WR-CALNAME:Knowledge and Education Leaders
X-ORIGINAL-URL:https://keleaders.com/product/applied-ai-and-analytics-for-leaders/
X-WR-CALDESC:Applied AI and Analytics for Leaders
BEGIN:VEVENT
DTSTART;TZID=Europe/London:20260720T000000
DTEND;TZID=Europe/London:20260724T000000
SUMMARY:Applied AI and Analytics for Leaders
DESCRIPTION:Training Overview This five-day Applied AI and Analytics for Leaders programme equips professionals with essential knowledge, tools, and models to drive strategic data-driven decisions in their organisation. Through real-world insights and proven methodologies, participants will learn how to lead AI and analytics initiatives that optimize business operations, enhance insight-generation, and build a culture of scientific decision-making.
URL:https://keleaders.com/product/applied-ai-and-analytics-for-leaders/
LOCATION:
END:VEVENT
END:VCALENDAR
