BEGIN:VCALENDAR
VERSION:2.0
PRODID:-//Knowledge and Education Leaders
CALSCALE:GREGORIAN
METHOD:PUBLISH
X-WR-CALNAME:Knowledge and Education Leaders
X-ORIGINAL-URL:https://keleaders.com/product/smart-time-management-and-stress-resilience-for-leaders/
X-WR-CALDESC:Smart Time Management and Stress Resilience for Leaders
BEGIN:VEVENT
DTSTART;TZID=Europe/London:20260420T000000
DTEND;TZID=Europe/London:20260424T000000
SUMMARY:Smart Time Management and Stress Resilience for Leaders
DESCRIPTION:Course Description INTRODUCTION Smart Time Management and Stress Resilience for Leaders is a comprehensive training course designed to equip professionals with the latest tools and strategies to optimize time, reduce stress, and build leadership resilience. In today’s demanding work environment, leaders face constant pressures that require emotional intelligence, time-awareness, and the ability to remain composed under pressure. This course offers a science-backed, holistic approach to managing workload, emotions, and priorities. Through engaging and practical sessions, participants will develop new perspectives, build sustainable habits, and sharpen the leadership skills needed to thrive in high-stakes environments. Participants will leave this course with actionable techniques to plan effectively, delegate confidently, manage stress proactively, and lead with clarity and composure. OBJECTIVES This Smart Time Management and Stress Resilience for Leaders course aims to enable participants to: Manage leadership workload with structure and clarity Understand and regulate emotional responses for better decision-making Build sustainable and productive leadership habits Apply effective time planning and scheduling techniques Delegate efficiently to empower teams and increase capacity Deliver impactful and constructive feedback Identify and address sources of personal and team stress Prioritise tasks using a results-driven and mindful approach
URL:https://keleaders.com/product/smart-time-management-and-stress-resilience-for-leaders/
LOCATION:
END:VEVENT
END:VCALENDAR
