BEGIN:VCALENDAR
VERSION:2.0
PRODID:-//Knowledge and Education Leaders
CALSCALE:GREGORIAN
METHOD:PUBLISH
X-WR-CALNAME:Knowledge and Education Leaders
X-ORIGINAL-URL:https://keleaders.com/product/advanced-crowd-and-event-management-through-ai-innovation/
X-WR-CALDESC:Advanced Crowd and Event Management through AI Innovation
BEGIN:VEVENT
DTSTART;TZID=Europe/London:20260622T000000
DTEND;TZID=Europe/London:20260626T000000
SUMMARY:Advanced Crowd and Event Management through AI Innovation
DESCRIPTION:
URL:https://keleaders.com/product/advanced-crowd-and-event-management-through-ai-innovation/
LOCATION:08 Hermitage Street Central London W2 1BE, England, United Kingdom.
END:VEVENT
END:VCALENDAR
