BEGIN:VCALENDAR
VERSION:2.0
PRODID:-//Knowledge and Education Leaders
CALSCALE:GREGORIAN
METHOD:PUBLISH
X-WR-CALNAME:Knowledge and Education Leaders
X-ORIGINAL-URL:https://keleaders.com/product/self-sponsorship-skilled-worker-visa-uk/
X-WR-CALDESC:SELF-SPONSORSHIP SKILLED WORKER VISA, UK
BEGIN:VEVENT
DTSTART;TZID=Europe/London:20260406T000000
DTEND;TZID=Europe/London:20260406T000000
SUMMARY:SELF-SPONSORSHIP SKILLED WORKER VISA, UK
DESCRIPTION:
URL:https://keleaders.com/product/self-sponsorship-skilled-worker-visa-uk/
LOCATION:
END:VEVENT
END:VCALENDAR
