BEGIN:VCALENDAR
VERSION:2.0
PRODID:-//Knowledge and Education Leaders
CALSCALE:GREGORIAN
METHOD:PUBLISH
X-WR-CALNAME:Knowledge and Education Leaders
X-ORIGINAL-URL:https://keleaders.com/product/vendor-management-and-accounts-payable-training-program/
X-WR-CALDESC:Vendor Management and Accounts Payable Training Program
BEGIN:VEVENT
DTSTART;TZID=Europe/London:20260622T000000
DTEND;TZID=Europe/London:20260626T000000
SUMMARY:Vendor Management and Accounts Payable Training Program
DESCRIPTION:
URL:https://keleaders.com/product/vendor-management-and-accounts-payable-training-program/
LOCATION:08 Hermitage Street Central London W2 1BE, England, United Kingdom.
END:VEVENT
END:VCALENDAR
