BEGIN:VCALENDAR
VERSION:2.0
PRODID:-//Knowledge and Education Leaders
CALSCALE:GREGORIAN
METHOD:PUBLISH
X-WR-CALNAME:Knowledge and Education Leaders
X-ORIGINAL-URL:https://keleaders.com/product/professional-certificate-in-fidic-contract-management/
X-WR-CALDESC:Professional Certificate in FIDIC Contract Management
BEGIN:VEVENT
DTSTART;TZID=Europe/London:20260518T000000
DTEND;TZID=Europe/London:20260522T000000
SUMMARY:Professional Certificate in FIDIC Contract Management
DESCRIPTION:Overview By covering the entire lifecycle of a contract—from drafting to execution—the course provides a deep dive into critical FIDIC clauses, risk allocation, and dispute resolution mechanisms. Participants will gain a comprehensive understanding of how to proactively manage contractual issues, ensuring project success and fostering collaborative relationships between employers, contractors, and stakeholders.
URL:https://keleaders.com/product/professional-certificate-in-fidic-contract-management/
LOCATION:08 Hermitage Street Central London W2 1BE, England, United Kingdom.
END:VEVENT
END:VCALENDAR
