BEGIN:VCALENDAR
VERSION:2.0
PRODID:-//Knowledge and Education Leaders
CALSCALE:GREGORIAN
METHOD:PUBLISH
X-WR-CALNAME:Knowledge and Education Leaders
X-ORIGINAL-URL:https://keleaders.com/product/fidic-contract-construction-disputes-claims-in-constructions-management/
X-WR-CALDESC:FIDIC Contract, Construction, Disputes, Claims in Constructions Management
BEGIN:VEVENT
DTSTART;TZID=Europe/London:20260914T000000
DTEND;TZID=Europe/London:20260918T000000
SUMMARY:FIDIC Contract, Construction, Disputes, Claims in Constructions Management
DESCRIPTION:
URL:https://keleaders.com/product/fidic-contract-construction-disputes-claims-in-constructions-management/
LOCATION:08 Hermitage Street Central London W2 1BE, England, United Kingdom.
END:VEVENT
END:VCALENDAR
