BEGIN:VCALENDAR
VERSION:2.0
PRODID:-//Knowledge and Education Leaders
CALSCALE:GREGORIAN
METHOD:PUBLISH
X-WR-CALNAME:Knowledge and Education Leaders
X-ORIGINAL-URL:https://keleaders.com/product/fidic-contract-management-and-dispute-resolution/
X-WR-CALDESC:FIDIC Contract Management and Dispute Resolution
BEGIN:VEVENT
DTSTART;TZID=Europe/London:20260824T000000
DTEND;TZID=Europe/London:20260828T000000
SUMMARY:FIDIC Contract Management and Dispute Resolution
DESCRIPTION:Course Overview: This specialized training course provides professionals with the necessary skills to effectively manage FIDIC contracts, handle claims, and resolve disputes efficiently. Through a combination of theoretical foundations and hands-on practical application, participants will learn how to navigate the complexities of FIDIC contracts, manage changes, and implement best practices in dispute resolution mechanisms. The course will include real-world case studies, offering a comprehensive understanding of FIDIC contracts in various sectors such as construction, EPC, Oil &amp; Gas, and government projects.
URL:https://keleaders.com/product/fidic-contract-management-and-dispute-resolution/
LOCATION:08 Hermitage Street Central London W2 1BE, England, United Kingdom.
END:VEVENT
END:VCALENDAR
