BEGIN:VCALENDAR
VERSION:2.0
PRODID:-//Knowledge and Education Leaders
CALSCALE:GREGORIAN
METHOD:PUBLISH
X-WR-CALNAME:Knowledge and Education Leaders
X-ORIGINAL-URL:https://keleaders.com/product/fidic-advanced-contract-mastery-in-depth-management-and-dispute-resolution/
X-WR-CALDESC:FIDIC Advanced Contract Mastery: In-Depth Management and Dispute Resolution
BEGIN:VEVENT
DTSTART;TZID=Europe/London:20260803T000000
DTEND;TZID=Europe/London:20260807T000000
SUMMARY:FIDIC Advanced Contract Mastery: In-Depth Management and Dispute Resolution
DESCRIPTION:Course Overview: The FIDIC Advanced Contract Mastery course is designed for experienced professionals who wish to deepen their expertise in FIDIC contracts, enhance their skills in complex claims management, and master advanced dispute resolution techniques. Building on foundational FIDIC principles, this course focuses on the nuances of contract administration, advanced claims management, risk mitigation, and strategic dispute resolution. The course combines theory with real-world case studies, providing participants with a comprehensive understanding of advanced FIDIC contract structures and practical skills to handle complex contractual situations. Participants will learn how to manage complex projects with multiple stakeholders, navigate advanced contractual obligations, and resolve high-value disputes. Through case studies, role-playing, and hands-on workshops, this course prepares professionals to excel in high-stakes environments, including construction, EPC, Oil &amp; Gas, and government projects.
URL:https://keleaders.com/product/fidic-advanced-contract-mastery-in-depth-management-and-dispute-resolution/
LOCATION:08 Hermitage Street Central London W2 1BE, England, United Kingdom.
END:VEVENT
END:VCALENDAR
