BEGIN:VCALENDAR
VERSION:2.0
PRODID:-//Knowledge and Education Leaders
CALSCALE:GREGORIAN
METHOD:PUBLISH
X-WR-CALNAME:Knowledge and Education Leaders
X-ORIGINAL-URL:https://keleaders.com/product/claim-and-disputes-under-fidic-contracts-management/
X-WR-CALDESC:Claim and Disputes under FIDIC contracts management
BEGIN:VEVENT
DTSTART;TZID=Europe/London:20260507T000000
DTEND;TZID=Europe/London:20260507T000000
SUMMARY:Claim and Disputes under FIDIC contracts management
DESCRIPTION:
URL:https://keleaders.com/product/claim-and-disputes-under-fidic-contracts-management/
LOCATION:08 Hermitage Street Central London W2 1BE, England, United Kingdom.
END:VEVENT
END:VCALENDAR
