BEGIN:VCALENDAR
VERSION:2.0
PRODID:-//Knowledge and Education Leaders
CALSCALE:GREGORIAN
METHOD:PUBLISH
X-WR-CALNAME:Knowledge and Education Leaders
X-ORIGINAL-URL:https://keleaders.com/product/masterclass-in-fintech-and-blockchain-technologies/
X-WR-CALDESC:Masterclass in Fintech and Blockchain Technologies
BEGIN:VEVENT
DTSTART;TZID=Europe/London:20260514T000000
DTEND;TZID=Europe/London:20260514T000000
SUMMARY:Masterclass in Fintech and Blockchain Technologies
DESCRIPTION:
URL:https://keleaders.com/product/masterclass-in-fintech-and-blockchain-technologies/
LOCATION:08 Hermitage Street Central London W2 1BE, England, United Kingdom.
END:VEVENT
END:VCALENDAR
