BEGIN:VCALENDAR
VERSION:2.0
PRODID:-//Knowledge and Education Leaders
CALSCALE:GREGORIAN
METHOD:PUBLISH
X-WR-CALNAME:Knowledge and Education Leaders
X-ORIGINAL-URL:https://keleaders.com/product/oil-price-volatility-and-risk-management-strategies/
X-WR-CALDESC:Oil Price Volatility and Risk Management Strategies
BEGIN:VEVENT
DTSTART;TZID=Europe/London:20260706T000000
DTEND;TZID=Europe/London:20260710T000000
SUMMARY:Oil Price Volatility and Risk Management Strategies
DESCRIPTION:
URL:https://keleaders.com/product/oil-price-volatility-and-risk-management-strategies/
LOCATION:08 Hermitage Street Central London W2 1BE, England, United Kingdom.
END:VEVENT
END:VCALENDAR
